BEGIN:VCALENDAR
VERSION:2.0
PRODID:-//Wanderverein Spessartfreunde Sailauf 1959 e.V. - ECPv6.15.18//NONSGML v1.0//EN
CALSCALE:GREGORIAN
METHOD:PUBLISH
X-WR-CALNAME:Wanderverein Spessartfreunde Sailauf 1959 e.V.
X-ORIGINAL-URL:https://spessartfreunde-sailauf.de
X-WR-CALDESC:Veranstaltungen für Wanderverein Spessartfreunde Sailauf 1959 e.V.
REFRESH-INTERVAL;VALUE=DURATION:PT1H
X-Robots-Tag:noindex
X-PUBLISHED-TTL:PT1H
BEGIN:VTIMEZONE
TZID:Europe/Berlin
BEGIN:DAYLIGHT
TZOFFSETFROM:+0100
TZOFFSETTO:+0200
TZNAME:CEST
DTSTART:20250330T010000
END:DAYLIGHT
BEGIN:STANDARD
TZOFFSETFROM:+0200
TZOFFSETTO:+0100
TZNAME:CET
DTSTART:20251026T010000
END:STANDARD
BEGIN:DAYLIGHT
TZOFFSETFROM:+0100
TZOFFSETTO:+0200
TZNAME:CEST
DTSTART:20260329T010000
END:DAYLIGHT
BEGIN:STANDARD
TZOFFSETFROM:+0200
TZOFFSETTO:+0100
TZNAME:CET
DTSTART:20261025T010000
END:STANDARD
BEGIN:DAYLIGHT
TZOFFSETFROM:+0100
TZOFFSETTO:+0200
TZNAME:CEST
DTSTART:20270328T010000
END:DAYLIGHT
BEGIN:STANDARD
TZOFFSETFROM:+0200
TZOFFSETTO:+0100
TZNAME:CET
DTSTART:20271031T010000
END:STANDARD
END:VTIMEZONE
BEGIN:VEVENT
DTSTART;VALUE=DATE:20260426
DTEND;VALUE=DATE:20260427
DTSTAMP:20260426T013629
CREATED:20251217T172351Z
LAST-MODIFIED:20251217T174539Z
UID:2636-1777161600-1777247999@spessartfreunde-sailauf.de
SUMMARY:Familien-Event „Outdoor-Escape-Game“ in Miltenberg
DESCRIPTION:Yvonne & Martin entführen euch zu geheimnisvollen Pfaden\, rund um die Mildenburg
URL:https://spessartfreunde-sailauf.de/event/familien-event-outdoor-escape-game-in-miltenberg/
LOCATION:Burg Miltenberg\, Conradyweg 20\, 63897 Miltenberg\, Germany
END:VEVENT
END:VCALENDAR