BEGIN:VCALENDAR
VERSION:2.0
PRODID:-//Wanderverein Spessartfreunde Sailauf 1959 e.V. - ECPv6.15.18//NONSGML v1.0//EN
CALSCALE:GREGORIAN
METHOD:PUBLISH
X-WR-CALNAME:Wanderverein Spessartfreunde Sailauf 1959 e.V.
X-ORIGINAL-URL:https://spessartfreunde-sailauf.de
X-WR-CALDESC:Veranstaltungen für Wanderverein Spessartfreunde Sailauf 1959 e.V.
REFRESH-INTERVAL;VALUE=DURATION:PT1H
X-Robots-Tag:noindex
X-PUBLISHED-TTL:PT1H
BEGIN:VTIMEZONE
TZID:Europe/Berlin
BEGIN:DAYLIGHT
TZOFFSETFROM:+0100
TZOFFSETTO:+0200
TZNAME:CEST
DTSTART:20190331T010000
END:DAYLIGHT
BEGIN:STANDARD
TZOFFSETFROM:+0200
TZOFFSETTO:+0100
TZNAME:CET
DTSTART:20191027T010000
END:STANDARD
BEGIN:DAYLIGHT
TZOFFSETFROM:+0100
TZOFFSETTO:+0200
TZNAME:CEST
DTSTART:20200329T010000
END:DAYLIGHT
BEGIN:STANDARD
TZOFFSETFROM:+0200
TZOFFSETTO:+0100
TZNAME:CET
DTSTART:20201025T010000
END:STANDARD
BEGIN:DAYLIGHT
TZOFFSETFROM:+0100
TZOFFSETTO:+0200
TZNAME:CEST
DTSTART:20210328T010000
END:DAYLIGHT
BEGIN:STANDARD
TZOFFSETFROM:+0200
TZOFFSETTO:+0100
TZNAME:CET
DTSTART:20211031T010000
END:STANDARD
BEGIN:DAYLIGHT
TZOFFSETFROM:+0100
TZOFFSETTO:+0200
TZNAME:CEST
DTSTART:20220327T010000
END:DAYLIGHT
BEGIN:STANDARD
TZOFFSETFROM:+0200
TZOFFSETTO:+0100
TZNAME:CET
DTSTART:20221030T010000
END:STANDARD
BEGIN:DAYLIGHT
TZOFFSETFROM:+0100
TZOFFSETTO:+0200
TZNAME:CEST
DTSTART:20230326T010000
END:DAYLIGHT
BEGIN:STANDARD
TZOFFSETFROM:+0200
TZOFFSETTO:+0100
TZNAME:CET
DTSTART:20231029T010000
END:STANDARD
BEGIN:DAYLIGHT
TZOFFSETFROM:+0100
TZOFFSETTO:+0200
TZNAME:CEST
DTSTART:20240331T010000
END:DAYLIGHT
BEGIN:STANDARD
TZOFFSETFROM:+0200
TZOFFSETTO:+0100
TZNAME:CET
DTSTART:20241027T010000
END:STANDARD
BEGIN:DAYLIGHT
TZOFFSETFROM:+0100
TZOFFSETTO:+0200
TZNAME:CEST
DTSTART:20250330T010000
END:DAYLIGHT
BEGIN:STANDARD
TZOFFSETFROM:+0200
TZOFFSETTO:+0100
TZNAME:CET
DTSTART:20251026T010000
END:STANDARD
BEGIN:DAYLIGHT
TZOFFSETFROM:+0100
TZOFFSETTO:+0200
TZNAME:CEST
DTSTART:20260329T010000
END:DAYLIGHT
BEGIN:STANDARD
TZOFFSETFROM:+0200
TZOFFSETTO:+0100
TZNAME:CET
DTSTART:20261025T010000
END:STANDARD
BEGIN:DAYLIGHT
TZOFFSETFROM:+0100
TZOFFSETTO:+0200
TZNAME:CEST
DTSTART:20270328T010000
END:DAYLIGHT
BEGIN:STANDARD
TZOFFSETFROM:+0200
TZOFFSETTO:+0100
TZNAME:CET
DTSTART:20271031T010000
END:STANDARD
END:VTIMEZONE
BEGIN:VEVENT
DTSTART;VALUE=DATE:20260329
DTEND;VALUE=DATE:20260330
DTSTAMP:20260423T134001
CREATED:20251217T172244Z
LAST-MODIFIED:20260311T140849Z
UID:2634-1774742400-1774828799@spessartfreunde-sailauf.de
SUMMARY:Palmhasenfest mit Wanderung „Rund ums Ei“
DESCRIPTION:🌿🐰 Palmhasen Familienfest 🐰🌿 \nHerzliche Einladung zu unserem Palmhasen Familienfest – ein fröhlicher Nachmittag für die ganze Familie! \nWir starten um 13:00 Uhr am Bürgerzentrum mit einer kleinen\, gemütlichen Familienwanderung\, bei der Groß und Klein gemeinsam mit einem Helfer des Palmhasen unterwegs sein können.\nIm Anschluss beginnt ab 14:00 Uhr der Festbetrieb auf unserem Vereinsgelände. \nFür die Kinder gibt es unsere alljährliche Osternestsuche sowie eine Kinderbastelecke.\nFür die Teilnahme an der Osternestsuche bitten wir um Anmeldung mit dem Namen des Kindes unter: mitmachen@wanderverein-sailauf.de\nFür Mitglieder des Wandervereins sind die Nester kostenlos\, der Eigenanteil für Kinder\, die nicht im Wanderverein sind\, beträgt 2\,50€ und kann vor Ort entrichtet werden. \nNatürlich ist auch für das leibliche Wohl bestens gesorgt. Es gibt – wie immer – Kaffee und Kuchen sowie Speisen und Getränke\, sodass alle einen gemütlichen Nachmittag miteinander verbringen können. \nKommt vorbei\, bringt gerne eure Familie mit und genießt gemeinsam mit uns einen schönen Tag voller Osterfreude\, Bewegung und guter Stimmung. Wir freuen uns auf euch! 🌷
URL:https://spessartfreunde-sailauf.de/event/palmhasenfest-mit-wanderung-rund-ums-ei/
LOCATION:Bayern
END:VEVENT
BEGIN:VEVENT
DTSTART;TZID=Europe/Berlin:20260321T093000
DTEND;TZID=Europe/Berlin:20260321T123000
DTSTAMP:20260423T134001
CREATED:20260319T095103Z
LAST-MODIFIED:20260319T095103Z
UID:2894-1774085400-1774096200@spessartfreunde-sailauf.de
SUMMARY:Aktion sauberer Landkreis 2026
DESCRIPTION:🔆Hallo zusammen\, \nam kommenden Samstag\, 21.03.\, wollen auch wir unseren Beitrag zur Aktion Sauberer Landkreis einbringen und treffen uns hierzu um 09.30 Uhr am Wanderheim. \nBitte gerne passende Arbeitshandschuhe selbst mitbringen. Blaue Müllsäcke wurden von Gemeindeseite aus gestellt. Je nach dem\, wieviel fleissige Arbeiter*innen sich einfinden\, veranschlag ich mal so 2 bis maximal 3 Stunden bis wir ‚unser Areal‘ durchkämmt haben.
URL:https://spessartfreunde-sailauf.de/event/aktion-sauberer-landkreis-2026/
LOCATION:Wanderheim Sailauf\, Zum Bischling 54\, Sailauf\, Bayern\, 63877\, Germany
ORGANIZER;CN="Wanderverein Spessartfreunde Sailauf 1959 e.V.":MAILTO:info@spessartfreunde-sailauf.de
END:VEVENT
BEGIN:VEVENT
DTSTART;VALUE=DATE:20260315
DTEND;VALUE=DATE:20260316
DTSTAMP:20260423T134001
CREATED:20251217T172151Z
LAST-MODIFIED:20260223T083903Z
UID:2632-1773532800-1773619199@spessartfreunde-sailauf.de
SUMMARY:Jahreshauptversammlung im Wanderheim
DESCRIPTION:  \n \nEinladung und Tagesordnung zum Download:\nEinladung Jahreshauptversammlung 15.03.2026
URL:https://spessartfreunde-sailauf.de/event/jahreshauptversammlung-im-wanderheim/
LOCATION:Wanderheim Sailauf\, Zum Bischling 54\, Sailauf\, Bayern\, 63877\, Germany
END:VEVENT
BEGIN:VEVENT
DTSTART;TZID=Europe/Berlin:20260217T100000
DTEND;TZID=Europe/Berlin:20260217T160000
DTSTAMP:20260423T134001
CREATED:20251217T171955Z
LAST-MODIFIED:20260126T203109Z
UID:2628-1771322400-1771344000@spessartfreunde-sailauf.de
SUMMARY:Wanderung nach Hain zum Obst und Gartenbauverein
DESCRIPTION:Faschingsdienstag mal anders\nUnsere Wanderfreunde Gerti & Winni führen am Faschingsdienstag nach Hain zum dortigen Obst- und Gartenbauverein. \n9 Kilometer durch unseren Spessart\nVom Startpunkt\, direkt am Sailaufer Wanderheim\, führt uns der Weg knapp über 9 Kilometer in die „Obstlerlaube“ nach Hain\, wo unsere Freunde vom OGV Hain uns mit Getränken und leckerer Suppe\, die sie extra für uns zubereiten\, bewirten. \nWir erwarten eine ungezwungene Atmosphäre bei einer „eher ruhigen“\, aber sicher nicht minder fröhlichen Faschingsveranstaltung. \nBitte anmelden \nGerti und Winni bitten um eine Voranmeldung von Mitwanderern bis zum Abend des 09.02.2026. \nWer die Beiden kennt\, kann sich gerne direkt mit ihnen in Verbindung setzen. \nAlternativ könnt ihr euch unter 0177 5463883 per Anruf (Mailbox) oder WhatsApp melden\, oder ihr schickt eine kurze\, formlose Mail an mitmachen@wanderverein-sailauf.de \nDie Teilnahme an der Wanderung ist selbstverständlich kostenfrei und erfordert keine Vereinsmitgliedschaft!
URL:https://spessartfreunde-sailauf.de/event/wanderung-nach-hain-zum-obst-und-gartenbauverein/
LOCATION:Wanderheim Sailauf\, Zum Bischling 54\, Sailauf\, Bayern\, 63877\, Germany
ORGANIZER;CN="Wanderverein Spessartfreunde Sailauf 1959 e.V.":MAILTO:info@spessartfreunde-sailauf.de
END:VEVENT
BEGIN:VEVENT
DTSTART;TZID=Europe/Berlin:20260201T110000
DTEND;TZID=Europe/Berlin:20260201T170000
DTSTAMP:20260423T134001
CREATED:20251111T103130Z
LAST-MODIFIED:20260130T075445Z
UID:2597-1769943600-1769965200@spessartfreunde-sailauf.de
SUMMARY:HIGHLIGHT! Glühweinwanderung und Hüttenfest am 01.02.2026 ab 12:00 Uhr
DESCRIPTION:  \nDas erwartet euch: \nBereits ab 11:00 Uhr führt Andreas unsere erste Glühweinwanderung ab dem Bürgerzentrum in Sailauf. \nFür nur 5\,- € Startgebühr bekommt jeder Teilnehmer eine Tasse\, die an drei Stationen mit verschiedenen hausgemachten Glühweinen – ohne weitere Kosten – gefüllt wird! Selbstverständlich gibt es jeweils auch eine alkoholfreie Variante! \nDie Wanderung ist auf etwa eineinhalb Stunden ausgelegt und endet auf unserem Hüttenfest am Wanderheim! \nDas Hüttenfest am Wanderheim startet um 12:00 Uhr. \nDort bereiten Sven und sein Team verschiedene warme Speisen vor!\nUnser Headliner für dieses Jahr:\n„Kesselfleisch\, wie´s früher war“\nwird schon ab den Morgenstunden vor Ort in unserem Feuerkessel für euch komplett frisch zubereitet! \nFür Alternativen dazu – auch vegetarisch – ist bestens gesorgt! \nUm 14:00 Uhr startet Andreas\, analog der Morgentour\, mit unseren Gästen die zweite Glühweinwanderung direkt vom Festgelände aus. \nAm frühen Nachmittag werden wir selbstverständlich Juttas und Heikes Kuchenbuffet eröffnen\, dazu gibt es heißen Kaffee oder Tee! \nDie Kids gehören bei uns IMMER dazu! Wir stellen wieder unsere Feuerschalen auf\, an denen der Nachwuchs – wie es bei uns zur guten Tradition geworden ist – sein eigenes\, kostenfreies Stockbrot braten kann! \nWir freuen uns auf euch! \nAnmeldungen sind nicht erforderlich!
URL:https://spessartfreunde-sailauf.de/event/huettenfest-2026/
LOCATION:Wanderheim Sailauf\, Zum Bischling 54\, Sailauf\, Bayern\, 63877\, Germany
END:VEVENT
BEGIN:VEVENT
DTSTART;TZID=Europe/Berlin:20260117T090000
DTEND;TZID=Europe/Berlin:20260117T140000
DTSTAMP:20260423T134001
CREATED:20260104T174854Z
LAST-MODIFIED:20260104T174854Z
UID:2708-1768640400-1768658400@spessartfreunde-sailauf.de
SUMMARY:Unser Wanderheim: Fit für 2026!
DESCRIPTION:Hallo\, liebe Vereinsmitglieder!\nEs geht wieder los!!! \nWir brauchen eure Hilfe!\nAm 17. Januar 2026 ab 9:00 Uhr bringen wir das Wanderheim fürs neue Jahr auf Vordermann!\nWir brauchen JEDE Hand!\nDie Hütte\, der Toilettenbau und vor allem auch der Außenbereich brauchen dringend etwas Zuwendung!\nDie Aktion startet wetterunabhängig – also auch bei Regen\, oder anderem Niederschlag – lediglich bei hoch liegenden Schnee können wir den Außenbereich nicht bearbeiten. \nEin gescheites Vesper und Getränke gehen für die Helfer während der Aktion natürlich auf den Verein! \nDie Erfahrung hat gezeigt\, dass – trotz Arbeit – die Stimmung immer cool ist und der Spaß nicht zu kurz kommt! \nAlso… Anpacken zählt!!!
URL:https://spessartfreunde-sailauf.de/event/unser-wanderheim-fit-fuer-2026/
LOCATION:Wanderheim Sailauf\, Zum Bischling 54\, Sailauf\, Bayern\, 63877\, Germany
END:VEVENT
BEGIN:VEVENT
DTSTART;VALUE=DATE:20260111
DTEND;VALUE=DATE:20260112
DTSTAMP:20260423T134001
CREATED:20251217T171639Z
LAST-MODIFIED:20260104T172246Z
UID:2624-1768089600-1768175999@spessartfreunde-sailauf.de
SUMMARY:Wanderung zum Lakefleischessen der Schützen
DESCRIPTION:Traditionen leben vom Mitmachen!\nAm 11.01.2026 startet Sabina unsere erste Wanderung in diesem\, noch jungen Jahr!\nTraditionell führt sie ab 14 Uhr eine – der Witterung angepasste – Runde in und um Sailauf! \nGemeinsam möchten wir dann unseren Sailaufer Schützenverein bei deren Lakefleisch-Essen besuchen\, wo wir mit Speis und Trank unsere Wanderung beenden. \nWir sind auf keine feste Route angewiesen\, wodurch Sabina die Möglichkeit hat\, diese Tour an unseren schwächsten Läufer\, oder sehr gerne auch Personen mit besonderen Bedürfnissen anpassen zu können! \nEine Anmeldung ist nicht nötig!\nWillkommen ist jeder\, der Freude an Bewegung im Freien hat\, unabhängig von einer Vereinsmitgliedschaft! \nTreffpunkt ist das Bürgerzentrum. 
URL:https://spessartfreunde-sailauf.de/event/wanderung-zum-lakefleischessen-der-schuetzen-2/
LOCATION:Bürgerzentrum Sailauf
ORGANIZER;CN="Wanderverein Spessartfreunde Sailauf 1959 e.V.":MAILTO:info@spessartfreunde-sailauf.de
END:VEVENT
BEGIN:VEVENT
DTSTART;TZID=Europe/Berlin:20251221T150000
DTEND;TZID=Europe/Berlin:20251221T235900
DTSTAMP:20260423T134001
CREATED:20250430T115606Z
LAST-MODIFIED:20251217T181541Z
UID:2208-1766329200-1766361540@spessartfreunde-sailauf.de
SUMMARY:Weihnachtsfeier für Alt und Jung mit Kaffee\, Plätzchen\, Christstollen und leckerem Abendessen im Wanderheim zum Jahresausklang
DESCRIPTION:Weihnachtsfeier im Wanderheim \nWir laden euch herzlich ein\, am 21.12. 2025 ab 15:00 Uhr mit uns zu feiern! \nEin ereignisreiches Jahr liegt hinter uns\, das wir an diesem Tag gerne mit euch noch einmal Revue passieren lassen. \nEin paar unserer Nachwuchswanderer haben dazu\, bei einer tollen Aktion im Wanderheim\, bereits Unmengen köstlicher Plätzchen gebacken\, die wir neben dem traditionellen Christstollen zum Kaffee servieren wollen. \nIm Verlauf des Nachmittags werden wir euch den neuen Wanderplan gerne noch einmal vorstellen und näher erläutern. \nNatürlich wird auch für ein warmes Abendessen gesorgt sein\, nach dem wir gemeinsam den Tag mit euch gemütlich ausklingen lassen möchten. \nDass ihr leider nicht alle kommen könnt\, wissen wir\, weshalb wir auch auf diesem Weg bereits jetzt ein sehr dickes DANKE an unsere Wanderfamilie sagen wollen!\nEs war ein tolles 2025 mit jedem/r Einzelnen von euch!\nWir freuen uns auf ein wundervolles Jahr 2026 – und noch viele folgende danach – MIT EUCH! \nVielen Dank – Martin – im Namen der gesamten Vorstandschaft! \nIch selbst nehme die Gelegenheit wahr\, euch gleich noch meine eigenen Weihnachtsgrüße anzuhängen. Ich wünsche euch von Herzen ein friedliches Weihnachtsfest mit Ruhe und Zeit füreinander\, die im Alltag vielleicht manchmal etwas zu kurz kommt! \nBis bald! 🫶🏽
URL:https://spessartfreunde-sailauf.de/event/weihnachtsfeier-fuer-alt-und-jung-mit-kaffee-plaetzchen-christstollen-und-leckerem-abendessen-im-wanderheim-zum-jahresausklang/
LOCATION:Wanderheim Sailauf\, Zum Bischling 54\, Sailauf\, Bayern\, 63877\, Germany
ORGANIZER;CN="Wanderverein Spessartfreunde Sailauf 1959 e.V.":MAILTO:info@spessartfreunde-sailauf.de
END:VEVENT
BEGIN:VEVENT
DTSTART;VALUE=DATE:20251129
DTEND;VALUE=DATE:20251130
DTSTAMP:20260423T134001
CREATED:20250430T115528Z
LAST-MODIFIED:20250430T115528Z
UID:2206-1764374400-1764460799@spessartfreunde-sailauf.de
SUMMARY:Plätzchen backen im Wanderheim
DESCRIPTION:
URL:https://spessartfreunde-sailauf.de/event/plaetzchen-backen-im-wanderheim/
LOCATION:Wanderheim Sailauf\, Zum Bischling 54\, Sailauf\, Bayern\, 63877\, Germany
ORGANIZER;CN="Wanderverein Spessartfreunde Sailauf 1959 e.V.":MAILTO:info@spessartfreunde-sailauf.de
END:VEVENT
BEGIN:VEVENT
DTSTART;VALUE=DATE:20251025
DTEND;VALUE=DATE:20251026
DTSTAMP:20260423T134001
CREATED:20250430T115458Z
LAST-MODIFIED:20250430T115458Z
UID:2204-1761350400-1761436799@spessartfreunde-sailauf.de
SUMMARY:Jugend-Spessartbund Jahrestagung in Sailauf
DESCRIPTION:
URL:https://spessartfreunde-sailauf.de/event/jugend-spessartbund-jahrestagung-in-sailauf/
LOCATION:Bayern
END:VEVENT
BEGIN:VEVENT
DTSTART;VALUE=DATE:20251019
DTEND;VALUE=DATE:20251020
DTSTAMP:20260423T134001
CREATED:20250430T115433Z
LAST-MODIFIED:20251005T142249Z
UID:2202-1760832000-1760918399@spessartfreunde-sailauf.de
SUMMARY:Drachenfest am Wanderheim
DESCRIPTION:
URL:https://spessartfreunde-sailauf.de/event/drachenfest-am-wanderheim-3/
LOCATION:Wanderheim Sailauf\, Zum Bischling 54\, Sailauf\, Bayern\, 63877\, Germany
ORGANIZER;CN="Wanderverein Spessartfreunde Sailauf 1959 e.V.":MAILTO:info@spessartfreunde-sailauf.de
END:VEVENT
BEGIN:VEVENT
DTSTART;VALUE=DATE:20251012
DTEND;VALUE=DATE:20251013
DTSTAMP:20260423T134001
CREATED:20250430T115355Z
LAST-MODIFIED:20250430T115355Z
UID:2200-1760227200-1760313599@spessartfreunde-sailauf.de
SUMMARY:Pollaschfeier Spessartbund
DESCRIPTION:
URL:https://spessartfreunde-sailauf.de/event/pollaschfeier-spessartbund/
LOCATION:Bayern
END:VEVENT
BEGIN:VEVENT
DTSTART;VALUE=DATE:20251005
DTEND;VALUE=DATE:20251006
DTSTAMP:20260423T134001
CREATED:20250430T115321Z
LAST-MODIFIED:20250915T092031Z
UID:2198-1759622400-1759708799@spessartfreunde-sailauf.de
SUMMARY:Barfußpfad in Bad Orb
DESCRIPTION:
URL:https://spessartfreunde-sailauf.de/event/barfusspfad-in-bad-orb-danach-einkehr-zum-grumbernbrode-sailauf/
LOCATION:Bayern
ORGANIZER;CN="Wanderverein Spessartfreunde Sailauf 1959 e.V.":MAILTO:info@spessartfreunde-sailauf.de
END:VEVENT
BEGIN:VEVENT
DTSTART;TZID=Europe/Berlin:20250817T100000
DTEND;TZID=Europe/Berlin:20250817T133000
DTSTAMP:20260423T134001
CREATED:20250811T074302Z
LAST-MODIFIED:20250811T074620Z
UID:2496-1755424800-1755437400@spessartfreunde-sailauf.de
SUMMARY:NEU! Rundwanderung zur Dorfkirchweih
DESCRIPTION:Kurzfristige Zusatzwanderung!\nWir freuen uns sehr\, außerhalb unseres regulären Wanderkalenders\, kurzfristig eine weitere Tour anbieten zu können!\nUnser Wanderfreund Lutz wird eine Rundwanderung zur Sailaufer Dorfkirchweih führen!\nDer Treffpunkt wird am 17.08.2025 um 10:00 am „Parkplatz Wanderheim“ – also am Fußball-Hartplatz sein.\nEr hat die Runde über die Kalksteinlöcher\, die Sailaufquelle und den Steinbruch geplant. Insgesamt wird die Wanderung ungefähr 12km lang sein.\nDas Ziel zur gemeinsamen Schlussrast ist die Sailaufer Kerb. \nIhr könnt euch gerne anmelden\, (0177-5463883) oder „einfach pünktlich kommen“! \nWir freuen uns auf euch! \nps. Die Zeitangabe ist nur eine ungefähre Schätzung. Die tatsächliche Wanderzeit ergibt sich dann auf dem Weg und kann etwas abweichen.
URL:https://spessartfreunde-sailauf.de/event/rundwanderung-zur-dorfkirchweih/
LOCATION:Wanderheim Sailauf\, Zum Bischling 54\, Sailauf\, Bayern\, 63877\, Germany
ORGANIZER;CN="Wanderverein Spessartfreunde Sailauf 1959 e.V.":MAILTO:info@spessartfreunde-sailauf.de
END:VEVENT
BEGIN:VEVENT
DTSTART;VALUE=DATE:20250815
DTEND;VALUE=DATE:20250816
DTSTAMP:20260423T134001
CREATED:20250430T115239Z
LAST-MODIFIED:20250805T103323Z
UID:2196-1755216000-1755302399@spessartfreunde-sailauf.de
SUMMARY:Kräuterwanderung mit Sabina
DESCRIPTION:Anmeldung bitte bei Sabina unter 0176/45386506
URL:https://spessartfreunde-sailauf.de/event/kraeuterwanderung-mit-einkehr-beim-fest-der-kolpingfamilie-in-laufach/
LOCATION:Bayern
END:VEVENT
BEGIN:VEVENT
DTSTART;VALUE=DATE:20250802
DTEND;VALUE=DATE:20250810
DTSTAMP:20260423T134001
CREATED:20250430T115148Z
LAST-MODIFIED:20250430T115148Z
UID:2194-1754092800-1754783999@spessartfreunde-sailauf.de
SUMMARY:Kinderzeltlager in Bischbrunn
DESCRIPTION:Anmeldung unter info@spessartfreunde-sailauf.de\nAlter 6 – 12 Jahre
URL:https://spessartfreunde-sailauf.de/event/kinderzeltlager-in-bischbrunn/
LOCATION:Bayern
ORGANIZER;CN="Wanderverein Spessartfreunde Sailauf 1959 e.V.":MAILTO:info@spessartfreunde-sailauf.de
END:VEVENT
BEGIN:VEVENT
DTSTART;VALUE=DATE:20250713
DTEND;VALUE=DATE:20250714
DTSTAMP:20260423T134001
CREATED:20250430T114934Z
LAST-MODIFIED:20250430T114934Z
UID:2191-1752364800-1752451199@spessartfreunde-sailauf.de
SUMMARY:Alpakawanderung bei den Hahnenkamm Alpakas in Alzenau.
DESCRIPTION:Info bei Martin unter 0177 5463883
URL:https://spessartfreunde-sailauf.de/event/alpakawanderung-bei-den-hahnenkamm-alpakas-in-alzenau/
LOCATION:Hahnenkamm Alpakas\, Märkerstr. 35\, Alzenau\, Bayern\, 63755\, Germany
ORGANIZER;CN="Wanderverein Spessartfreunde Sailauf 1959 e.V.":MAILTO:info@spessartfreunde-sailauf.de
END:VEVENT
BEGIN:VEVENT
DTSTART;VALUE=DATE:20250629
DTEND;VALUE=DATE:20250630
DTSTAMP:20260423T134001
CREATED:20250430T114708Z
LAST-MODIFIED:20250430T114708Z
UID:2189-1751155200-1751241599@spessartfreunde-sailauf.de
SUMMARY:Spessartbundesfest in Hobbach
DESCRIPTION:
URL:https://spessartfreunde-sailauf.de/event/spessartbundesfest-in-hobbach/
LOCATION:Bayern
ORGANIZER;CN="Spessartbund e.V. 1913":MAILTO:info@spessartbund.de
END:VEVENT
BEGIN:VEVENT
DTSTART;TZID=Europe/Berlin:20250621T170000
DTEND;TZID=Europe/Berlin:20250621T220000
DTSTAMP:20260423T134001
CREATED:20250430T114552Z
LAST-MODIFIED:20250609T100915Z
UID:2187-1750525200-1750543200@spessartfreunde-sailauf.de
SUMMARY:Sommersonnenwende am Wanderheim in Sailauf
DESCRIPTION:Wir freuen uns auf Euch!\nBesucht uns doch am 21.06.2025 auf dem Bischling und unserem wunderbaren Vereinsgelände unter alten Bäumen und mit einem herrlichen Blick auf Sailauf und bis weit in den Vorspessart. Geniesst mit uns den Sonnenuntergang bei einem kühlen Getränk an unserer Steh-Theke. \nAb 17 Uhr gibt es Leckereien aus der Grillhütte und GANZ NEU auch vegane Speisen. Lasst Euch gerne überraschen.\nDazu bieten wir alkoholfreie Getränke und frisches Bier vom Fass an. \nFür unsere Kinder haben wir natürlich wieder unser beliebtes Stockbrot vorbereitet\, das sie an ihrem eigenen kleinen Feuer selbst backen können. \nDas Highlight wird wie jedes Jahr wieder unser großes Sonnwendfeuer sein! (sofern die Wetterlage das zulässt.)
URL:https://spessartfreunde-sailauf.de/event/sommersonnenwende-sailauf-wanderheim/
LOCATION:Wanderheim Sailauf\, Zum Bischling 54\, Sailauf\, Bayern\, 63877\, Germany
END:VEVENT
BEGIN:VEVENT
DTSTART;VALUE=DATE:20250531
DTEND;VALUE=DATE:20250601
DTSTAMP:20260423T134001
CREATED:20250430T114436Z
LAST-MODIFIED:20250430T114436Z
UID:2185-1748649600-1748735999@spessartfreunde-sailauf.de
SUMMARY:Familienausflug auf die Wasserkuppe in der Rhön.
DESCRIPTION:Ansprechpartnerin und Anmeldung bei Jutta unter 06093 3870776
URL:https://spessartfreunde-sailauf.de/event/familienausflug-auf-die-wasserkuppe-in-der-rhoen/
LOCATION:Bayern
ORGANIZER;CN="Wanderverein Spessartfreunde Sailauf 1959 e.V.":MAILTO:info@spessartfreunde-sailauf.de
END:VEVENT
BEGIN:VEVENT
DTSTART;VALUE=DATE:20250518
DTEND;VALUE=DATE:20250519
DTSTAMP:20260423T134001
CREATED:20250430T113134Z
LAST-MODIFIED:20250430T120316Z
UID:2176-1747526400-1747612799@spessartfreunde-sailauf.de
SUMMARY:„Der Landkreis wandert“ und Kinderwandertag an der Spessartrampe
DESCRIPTION:Der Landkreis Aschaffenburg wandert!\nam 18.05.2025 ab 09:30 h\nIm Rahmen dieses Aktionstages bietet der Spessartbund\, in Kooperation mit der deutschen Wanderjugend\, für den Nachwuchs die besondere Gelegenheit\, von 13:00 – 16:00 Uhr an einem speziellen „Kinderwandertag“ teilzunehmen! \nEs wurden viele Mitmachstationen angekündigt\, die speziell auf unsere\nJungwanderer zugeschnitten sein werden.\nDie besondere Location des „Eisenbahn-Erlebnis Spessartrampe“ hält\nhier unzählige Möglichkeiten vor!\nKids\, die sich anmelden\, profitieren von freier Verpflegung während der\ngesamten Aktion!\nSehr gerne sind auch Gruppenanmeldungen möglich\, wobei hier pro\nsechs Kindern jeweils eine Aufsichtsperson die gleichen Vorzüge der\nfreien Kost genießen darf! \nAlso – worauf wartest Du?\nDie Welt ist da draußen – erlebe Sie!\nMehr Infos unter:\nhttps://spessartbund.de/18-05-2025-tag-des-wanderns-fuer-kinder/ \nAnmeldungen bitte bei:\nAndreas Hartmann\, unter 0170 7108090\noder unter: info@spessartfreunde-sailauf.de
URL:https://spessartfreunde-sailauf.de/event/der-landkreis-wandert-und-kinderwandertag-an-der-spessartrampe/
LOCATION:Eisenbahnerlebnis Spessartrampe\, Im Seebachtal 4\, Laufach\, Bayern\, 63846\, Germany
END:VEVENT
BEGIN:VEVENT
DTSTART;TZID=Europe/Berlin:20201114T180000
DTEND;TZID=Europe/Berlin:20201114T210000
DTSTAMP:20260423T134001
CREATED:20200301T203730Z
LAST-MODIFIED:20200301T203730Z
UID:990-1605376800-1605387600@spessartfreunde-sailauf.de
SUMMARY:Nachtwanderung
DESCRIPTION:https://spessartfreunde-sailauf.de/die-naechsten-nachtwanderungen/
URL:https://spessartfreunde-sailauf.de/event/nachtwanderung-2/
LOCATION:Bayern
END:VEVENT
BEGIN:VEVENT
DTSTART;TZID=Europe/Berlin:20200925T180000
DTEND;TZID=Europe/Berlin:20200925T210000
DTSTAMP:20260423T134001
CREATED:20200301T203813Z
LAST-MODIFIED:20200301T203813Z
UID:988-1601056800-1601067600@spessartfreunde-sailauf.de
SUMMARY:Nachtwanderung
DESCRIPTION:https://spessartfreunde-sailauf.de/die-naechsten-nachtwanderungen/
URL:https://spessartfreunde-sailauf.de/event/nachtwanderung-3/
LOCATION:Bayern
END:VEVENT
BEGIN:VEVENT
DTSTART;TZID=Europe/Berlin:20200621T140000
DTEND;TZID=Europe/Berlin:20200621T233000
DTSTAMP:20260423T134001
CREATED:20200301T203855Z
LAST-MODIFIED:20200325T060611Z
UID:992-1592748000-1592782200@spessartfreunde-sailauf.de
SUMMARY:-abgesagt- Familienfest "Mit Feuer und Flamme" und anschließendes Sonnenwendfeuer
DESCRIPTION:Infos folgen
URL:https://spessartfreunde-sailauf.de/event/familienfest-mit-feuer-und-flamme-und-anschliessendes-sonnenwendfeuer/
LOCATION:Bayern
END:VEVENT
BEGIN:VEVENT
DTSTART;VALUE=DATE:20200601
DTEND;VALUE=DATE:20200606
DTSTAMP:20260423T134001
CREATED:20200301T203831Z
LAST-MODIFIED:20200325T060642Z
UID:979-1590969600-1591401599@spessartfreunde-sailauf.de
SUMMARY:-abgesagt- Wanderwoche im Erzgebirge
DESCRIPTION:Infos ausführlich \nInfos kurz
URL:https://spessartfreunde-sailauf.de/event/wanderwoche-im-erzgebirge/
LOCATION:Johanngeorgenstadt\, Johanngeorgenstadt\, Sachsen
END:VEVENT
BEGIN:VEVENT
DTSTART;TZID=Europe/Berlin:20200405T140000
DTEND;TZID=Europe/Berlin:20200405T180000
DTSTAMP:20260423T134001
CREATED:20200308T095724Z
LAST-MODIFIED:20200325T060705Z
UID:1200-1586095200-1586109600@spessartfreunde-sailauf.de
SUMMARY:-abgesagt- Osterwanderung "Rund ums Ei"
DESCRIPTION:
URL:https://spessartfreunde-sailauf.de/event/osterwanderung-rund-ums-ei/
LOCATION:Wanderheim Sailauf\, Zum Bischling 54\, Sailauf\, Bayern\, 63877\, Germany
ORGANIZER;CN="Wanderverein Spessartfreunde Sailauf 1959 e.V.":MAILTO:info@spessartfreunde-sailauf.de
END:VEVENT
BEGIN:VEVENT
DTSTART;TZID=Europe/Berlin:20200328T180000
DTEND;TZID=Europe/Berlin:20200328T210000
DTSTAMP:20260423T134001
CREATED:20200308T103506Z
LAST-MODIFIED:20200325T060730Z
UID:1204-1585418400-1585429200@spessartfreunde-sailauf.de
SUMMARY:-abgesagt- 2. Sailaufer Nachtwanderung 2020
DESCRIPTION:Herzlich Willkommen zu unserer  \n2. Sailaufer Nachtwanderung 2020.  \nDie sechste Auflage dieser beliebten Wanderreihe ist die letzte vor der Sommerpause und startet wieder am Wanderheim in Sailauf (Google-Plus Code fürs Navi 27C5+5J Sailauf). \nDa es etwas später Dunkel wird\, geht es um 18:00 Uhr mit der obligatorischen Thüringer Rostbratwurst vom Grill und einem passenden Getränk los. \nDie anschließende Wanderung führt dann durch den Wald in der Umgebung und ist für Familien mit Kindern ab 5 Jahren gleichermaßen geeignet wie für Senioren oder Wanderer mit Handycap. (Rollstuhlfahrer bitte vorher melden\, damit wir die Wegeplanung anpassen können.) \nLasst Euch überraschen\, was wir uns dabei für Euch haben einfallen lassen. \nGegen 21:00 Uhr sind wir am Wanderheim zurück\, wobei es bereits unterwegs Möglichkeiten geben wird\, selbstständig in den Ort zurück zu kehren. \nSpezielle Kenntnisse sind nicht erforderlich\, bitte an Kleingeld (für Wurst und Getränke)\, festes Schuhwerk\, wander- und wettertypische Kleidung sowie funktionierende Taschenlampen denken. \nDiese Nachtwanderung steht unter der Regie der Sailaufer Outdoor-Kids\, der Kindergruppe der Spessartfreunde Sailauf 1959 e.V. \nEure Wanderführer Yvonne und Thomas – Rückfragen an info@spessartfreunde-sailauf.de oder WhatsApp / mobil +49 1523 1746156
URL:https://spessartfreunde-sailauf.de/event/2-sailaufer-nachtwanderung-2020/
LOCATION:Wanderheim Sailauf\, Zum Bischling 54\, Sailauf\, Bayern\, 63877\, Germany
END:VEVENT
BEGIN:VEVENT
DTSTART;TZID=Europe/Berlin:20200327T183000
DTEND;TZID=Europe/Berlin:20200327T203000
DTSTAMP:20260423T134001
CREATED:20200306T153655Z
LAST-MODIFIED:20200313T104002Z
UID:1190-1585333800-1585341000@spessartfreunde-sailauf.de
SUMMARY:Fällt aus! - Mit Frisch Auf zu Glück Auf - Infoabend zur Wanderwoche 2020
DESCRIPTION:  \nFür Informationen zur Wanderwoche bitte den Link –>Flyer ausführlich  nutzen
URL:https://spessartfreunde-sailauf.de/event/mit-frisch-auf-zu-glueck-auf-infoabend-zur-wanderwoche-2020/
LOCATION:Wanderheim Sailauf\, Zum Bischling 54\, Sailauf\, Bayern\, 63877\, Germany
ORGANIZER;CN="Wanderverein Spessartfreunde Sailauf 1959 e.V.":MAILTO:info@spessartfreunde-sailauf.de
END:VEVENT
BEGIN:VEVENT
DTSTART;TZID=Europe/Berlin:20200327T153000
DTEND;TZID=Europe/Berlin:20200327T153000
DTSTAMP:20260423T134001
CREATED:20200301T203950Z
LAST-MODIFIED:20200325T060754Z
UID:1188-1585323000-1585323000@spessartfreunde-sailauf.de
SUMMARY:-fällt aus- Treffen der Outddor-Kids
DESCRIPTION:
URL:https://spessartfreunde-sailauf.de/event/treffen-der-outddor-kids/
LOCATION:Bayern
END:VEVENT
BEGIN:VEVENT
DTSTART;TZID=Europe/Berlin:20200314T083000
DTEND;TZID=Europe/Berlin:20200314T133000
DTSTAMP:20260423T134001
CREATED:20200312T143711Z
LAST-MODIFIED:20200312T143711Z
UID:1211-1584174600-1584192600@spessartfreunde-sailauf.de
SUMMARY:Fahrt zu den Biebern
DESCRIPTION:Wir fahren zu den Biebern! Fahrt mit eigenem PKW. \nTreffpunkt Samstag 8:30 Uhr am Bürgerzentrum. \nRückfragen bei Tatjana oder Thomas – 01520-3476635
URL:https://spessartfreunde-sailauf.de/event/fahrt-zu-den-biebern/
LOCATION:Bürgerzentrum Sailauf
END:VEVENT
END:VCALENDAR